BEGIN:VCALENDAR
VERSION:2.0
PRODID:-//Town of Beech Mountain - ECPv6.15.12.2//NONSGML v1.0//EN
CALSCALE:GREGORIAN
METHOD:PUBLISH
X-WR-CALNAME:Town of Beech Mountain
X-ORIGINAL-URL:https://townofbeechmountain.com
X-WR-CALDESC:Events for Town of Beech Mountain
REFRESH-INTERVAL;VALUE=DURATION:PT1H
X-Robots-Tag:noindex
X-PUBLISHED-TTL:PT1H
BEGIN:VTIMEZONE
TZID:UTC
BEGIN:STANDARD
TZOFFSETFROM:+0000
TZOFFSETTO:+0000
TZNAME:UTC
DTSTART:20210101T000000
END:STANDARD
END:VTIMEZONE
BEGIN:VEVENT
DTSTART;TZID=UTC:20241206T160000
DTEND;TZID=UTC:20241206T190000
DTSTAMP:20260424T172934
CREATED:20241112T130933Z
LAST-MODIFIED:20241112T130933Z
UID:13208-1733500800-1733511600@townofbeechmountain.com
SUMMARY:Craft Night
DESCRIPTION:This holiday season\, elevate your festive décor by creating your very own Christmas tree topper. \nEngaging in a DIY project not only allows for a personal touch in your decorations but also provides an enjoyable activity for families and friends. \nGather your materials\, unleash your creativity\, and make a statement with a unique topper that reflects your style and holiday spirit. \nRegistration required – visit https://beechrecreation.recdesk.com/Community/Page?pageId=20562 to register
URL:https://townofbeechmountain.com/event/craft-night-3/
LOCATION:Fred and Margie Pfohl Buckeye Recreation Center\, 1330 Pine Ridge Rd\, Beech Mountain\, NC\, 28604\, United States
ATTACH;FMTTYPE=image/png:https://townofbeechmountain.com/wp-content/uploads/Treetopper1.png
END:VEVENT
BEGIN:VEVENT
DTSTART;TZID=UTC:20241130T100000
DTEND;TZID=UTC:20241130T160000
DTSTAMP:20260424T172934
CREATED:20241106T211031Z
LAST-MODIFIED:20241106T211031Z
UID:13175-1732960800-1732982400@townofbeechmountain.com
SUMMARY:Holiday Market
DESCRIPTION:Please join us for the Annual Holiday Market at Buckeye Recreation Center. Admission is FREE. Enjoy browsing booths of a variety of local vendors and craftsmen to discover that perfect item to fill your holiday shopping list. Items such as\, Christmas ornaments\, artwork\, pottery\, woodwork\, soaps\, lotions\, glass and pearl jewelry\, yarn art\, Scentsy and much more. Enjoy the display of the Parade of Wreaths. Mrs. Claus will be attending\, with games and activities for the kids. Vendor spaces are available. Please contact Kate Prisco at kprisco@townofbeechmountain.com for more information or call 828-387-3003. \n 
URL:https://townofbeechmountain.com/event/holiday-market-2/
LOCATION:Fred and Margie Pfohl Buckeye Recreation Center\, 1330 Pine Ridge Rd\, Beech Mountain\, NC\, 28604\, United States
ATTACH;FMTTYPE=image/png:https://townofbeechmountain.com/wp-content/uploads/powerpoint-slide-01.png
END:VEVENT
BEGIN:VEVENT
DTSTART;TZID=UTC:20241122T170000
DTEND;TZID=UTC:20241122T190000
DTSTAMP:20260424T172934
CREATED:20241112T130614Z
LAST-MODIFIED:20241112T130614Z
UID:13201-1732294800-1732302000@townofbeechmountain.com
SUMMARY:Craft Night
DESCRIPTION:Are you ready to unleash your inner artist and take a walk on the wood side? Our “Wood Cookie Ornament” experience is here to transform your creative dreams into reality! Dive into a world where you can shape\, design\, and personalize stunning pieces that reflect your unique style. Whether you’re a seasoned pro or a curious beginner\, this is your chance to carve out some fun and create masterpieces that will leave everyone in awe. So let’s get this woodwork party started! \nRegistration required – visit https://beechrecreation.recdesk.com/Community/Page?pageId=20562 to register
URL:https://townofbeechmountain.com/event/craft-night-2/
LOCATION:Fred and Margie Pfohl Buckeye Recreation Center\, 1330 Pine Ridge Rd\, Beech Mountain\, NC\, 28604\, United States
ATTACH;FMTTYPE=image/png:https://townofbeechmountain.com/wp-content/uploads/Woodart.png
END:VEVENT
BEGIN:VEVENT
DTSTART;TZID=UTC:20241031T170000
DTEND;TZID=UTC:20241031T200000
DTSTAMP:20260424T172934
CREATED:20240903T191306Z
LAST-MODIFIED:20240903T191306Z
UID:12789-1730394000-1730404800@townofbeechmountain.com
SUMMARY:Pickleball Paddle Battle
DESCRIPTION:Compete in Buckeye’s Pickleball Paddle Battle! It is a competitive format where anyone can win. Everyone will play with different partners and different opponents. To add more of a twist\, we are adding neon colors and black light into the mix! Hope to see you here. Costumes & wearing neon colors are higly encouraged. The cost is $5\, please register at www.beechrecreation.recdesk.com. For more information\, please call 828-387-3003.
URL:https://townofbeechmountain.com/event/pickleball-paddle-battle-3/
LOCATION:Fred and Margie Pfohl Buckeye Recreation Center\, 1330 Pine Ridge Rd\, Beech Mountain\, NC\, 28604\, United States
ATTACH;FMTTYPE=image/png:https://townofbeechmountain.com/wp-content/uploads/Pickleball-New-PNG.png
END:VEVENT
BEGIN:VEVENT
DTSTART;TZID=UTC:20241024T160000
DTEND;TZID=UTC:20241024T190000
DTSTAMP:20260424T172934
CREATED:20241017T121433Z
LAST-MODIFIED:20241017T121433Z
UID:13054-1729785600-1729796400@townofbeechmountain.com
SUMMARY:Sip & Paint
DESCRIPTION:
URL:https://townofbeechmountain.com/event/sip-paint-2/
LOCATION:Fred and Margie Pfohl Buckeye Recreation Center\, 1330 Pine Ridge Rd\, Beech Mountain\, NC\, 28604\, United States
ATTACH;FMTTYPE=image/png:https://townofbeechmountain.com/wp-content/uploads/Sip-n-p.png
END:VEVENT
BEGIN:VEVENT
DTSTART;TZID=UTC:20241017T090000
DTEND;TZID=UTC:20241017T160000
DTSTAMP:20260424T172934
CREATED:20241015T150904Z
LAST-MODIFIED:20241015T150904Z
UID:13020-1729155600-1729180800@townofbeechmountain.com
SUMMARY:Victim Assistance Center
DESCRIPTION:
URL:https://townofbeechmountain.com/event/victim-assistance-center/
LOCATION:Fred and Margie Pfohl Buckeye Recreation Center\, 1330 Pine Ridge Rd\, Beech Mountain\, NC\, 28604\, United States
ATTACH;FMTTYPE=application/pdf:https://townofbeechmountain.com/wp-content/uploads/NC-DOI.pdf
END:VEVENT
BEGIN:VEVENT
DTSTART;TZID=UTC:20240927T120000
DTEND;TZID=UTC:20240927T140000
DTSTAMP:20260424T172934
CREATED:20240916T191706Z
LAST-MODIFIED:20240916T191706Z
UID:12827-1727438400-1727445600@townofbeechmountain.com
SUMMARY:Flu Shot Clinic
DESCRIPTION:
URL:https://townofbeechmountain.com/event/flu-shot-clinic-2/
LOCATION:Fred and Margie Pfohl Buckeye Recreation Center\, 1330 Pine Ridge Rd\, Beech Mountain\, NC\, 28604\, United States
ATTACH;FMTTYPE=image/png:https://townofbeechmountain.com/wp-content/uploads/Flu-Shot-Clinic-2024-01.png
END:VEVENT
BEGIN:VEVENT
DTSTART;TZID=UTC:20240926T173000
DTEND;TZID=UTC:20240926T193000
DTSTAMP:20260424T172934
CREATED:20240903T190904Z
LAST-MODIFIED:20240905T154324Z
UID:12781-1727371800-1727379000@townofbeechmountain.com
SUMMARY:Fellowship Feast
DESCRIPTION:
URL:https://townofbeechmountain.com/event/fellowship-feast/
LOCATION:Fred and Margie Pfohl Buckeye Recreation Center\, 1330 Pine Ridge Rd\, Beech Mountain\, NC\, 28604\, United States
ATTACH;FMTTYPE=image/png:https://townofbeechmountain.com/wp-content/uploads/Potluck-dinner-flyer-01-01-01.png
END:VEVENT
BEGIN:VEVENT
DTSTART;TZID=UTC:20240830T190000
DTEND;TZID=UTC:20240830T210000
DTSTAMP:20260424T172934
CREATED:20240806T122339Z
LAST-MODIFIED:20240806T122353Z
UID:12701-1725044400-1725051600@townofbeechmountain.com
SUMMARY:Salamander Stroll
DESCRIPTION:An evening program all about Salamanders! Learn about our amphibious friends with a night hike to follow! Friday\, August 30th.\n*bring a headlamp or flashlight*
URL:https://townofbeechmountain.com/event/salamander-stroll-2/
LOCATION:Fred and Margie Pfohl Buckeye Recreation Center\, 1330 Pine Ridge Rd\, Beech Mountain\, NC\, 28604\, United States
ATTACH;FMTTYPE=image/png:https://townofbeechmountain.com/wp-content/uploads/Night-hike-Aug.png
END:VEVENT
BEGIN:VEVENT
DTSTART;TZID=UTC:20240628T190000
DTEND;TZID=UTC:20240628T213000
DTSTAMP:20260424T172934
CREATED:20240612T161448Z
LAST-MODIFIED:20240612T194331Z
UID:12541-1719601200-1719610200@townofbeechmountain.com
SUMMARY:Salamander Stroll
DESCRIPTION:Get outside with Beech Mtn Parks & Recreation\, Watauga River Keeper\, & Lees-McRae College. Grab your headlamps for an evening program all about Salamanders! Learn about our amphibious friends with a night hike to follow. While FREE to attend – Registration is required. We have a max of 20 spots. Grab your spot at: https://beechrecreation.recdesk.com/Community/Program/Detail?programId=365
URL:https://townofbeechmountain.com/event/salamander-stroll/
LOCATION:Fred and Margie Pfohl Buckeye Recreation Center\, 1330 Pine Ridge Rd\, Beech Mountain\, NC\, 28604\, United States
ATTACH;FMTTYPE=application/pdf:https://townofbeechmountain.com/wp-content/uploads/Night-Hike-yellow-1.pdf
END:VEVENT
BEGIN:VEVENT
DTSTART;TZID=UTC:20240515T170000
DTEND;TZID=UTC:20240515T190000
DTSTAMP:20260424T172934
CREATED:20240425T115445Z
LAST-MODIFIED:20240425T115445Z
UID:12375-1715792400-1715799600@townofbeechmountain.com
SUMMARY:Garden Focaccia
DESCRIPTION:For this craft night\, Buckeye staff will make a focaccia dough for you to decorate! We will have vegetables and herbs to decorate your masterpiece before we bake it onsite! Your take home is a small\, personal sized loaf of “garden” style focaccia! Registration is required. Cost is $5 to attend. We hope to see you here!
URL:https://townofbeechmountain.com/event/garden-focaccia/
LOCATION:Fred and Margie Pfohl Buckeye Recreation Center\, 1330 Pine Ridge Rd\, Beech Mountain\, NC\, 28604\, United States
ATTACH;FMTTYPE=application/pdf:https://townofbeechmountain.com/wp-content/uploads/Focaccia.pdf
END:VEVENT
BEGIN:VEVENT
DTSTART;TZID=UTC:20240503T170000
DTEND;TZID=UTC:20240503T203000
DTSTAMP:20260424T172934
CREATED:20240419T135036Z
LAST-MODIFIED:20240419T135817Z
UID:12358-1714755600-1714768200@townofbeechmountain.com
SUMMARY:Pickleball Paddle Battle
DESCRIPTION:Compete in the Annual May Pickleball Paddle Battle! Prizes and fun guaranteed. The cost is $5 per person. See registration page for rules/regulations. \nRegister at www.beechrecreation.recdesk.com.
URL:https://townofbeechmountain.com/event/pickleball-paddle-battle-2/
LOCATION:Fred and Margie Pfohl Buckeye Recreation Center\, 1330 Pine Ridge Rd\, Beech Mountain\, NC\, 28604\, United States
ATTACH;FMTTYPE=application/pdf:https://townofbeechmountain.com/wp-content/uploads/cinco-de-mayo.pdf
END:VEVENT
BEGIN:VEVENT
DTSTART;TZID=UTC:20240422T170000
DTEND;TZID=UTC:20240422T190000
DTSTAMP:20260424T172934
CREATED:20240327T122817Z
LAST-MODIFIED:20240327T122856Z
UID:12281-1713805200-1713812400@townofbeechmountain.com
SUMMARY:Culinary Craft Night
DESCRIPTION:Roll down for a classic breakfast for dinner! On Monday\, April 22nd\, come down to learn how to make everything bagels from scratch! Registration is required. Cost is $5. \nbeechrecreation.recdesk.com 828-387-3003
URL:https://townofbeechmountain.com/event/12281/
LOCATION:Fred and Margie Pfohl Buckeye Recreation Center\, 1330 Pine Ridge Rd\, Beech Mountain\, NC\, 28604\, United States
ATTACH;FMTTYPE=application/pdf:https://townofbeechmountain.com/wp-content/uploads/Bagel.pdf
END:VEVENT
BEGIN:VEVENT
DTSTART;TZID=UTC:20240412T180000
DTEND;TZID=UTC:20240412T200000
DTSTAMP:20260424T172934
CREATED:20240229T201302Z
LAST-MODIFIED:20240229T201302Z
UID:12191-1712944800-1712952000@townofbeechmountain.com
SUMMARY:Mystery Dinner
DESCRIPTION:Join us at your own risk for dinner…and a murder mystery. It is up to you and your dinner guests to solve this 1920’s Speakeasy themed Murder Mystery. $30/Person\, Includes Dinner. Registration Required by April 1st beechrecreation.recdesk.com / 828-387-3003
URL:https://townofbeechmountain.com/event/mystery-dinner/
LOCATION:Fred and Margie Pfohl Buckeye Recreation Center\, 1330 Pine Ridge Rd\, Beech Mountain\, NC\, 28604\, United States
ATTACH;FMTTYPE=application/pdf:https://townofbeechmountain.com/wp-content/uploads/Murder-Myster-24-flyer.pdf
END:VEVENT
BEGIN:VEVENT
DTSTART;TZID=UTC:20240330T110000
DTEND;TZID=UTC:20240330T130000
DTSTAMP:20260424T172934
CREATED:20240202T163628Z
LAST-MODIFIED:20240202T163628Z
UID:12087-1711796400-1711803600@townofbeechmountain.com
SUMMARY:Hoppy Easter Party
DESCRIPTION:Join us at the Buckeye Recreation Center for an “egg-straordinary party and egg hunt”  There will be games\, activities\, & the hunt for kids 12 & under. The event will be held from 11:00 AM to 1:00 PM. For more information please contact 828-387-3003. \n 
URL:https://townofbeechmountain.com/event/hoppy-easter-party-2/
LOCATION:Fred and Margie Pfohl Buckeye Recreation Center\, 1330 Pine Ridge Rd\, Beech Mountain\, NC\, 28604\, United States
ATTACH;FMTTYPE=application/pdf:https://townofbeechmountain.com/wp-content/uploads/Easter-flyer-2024.pdf
END:VEVENT
BEGIN:VEVENT
DTSTART;TZID=UTC:20240313T170000
DTEND;TZID=UTC:20240313T190000
DTSTAMP:20260424T172934
CREATED:20240206T153809Z
LAST-MODIFIED:20240206T153906Z
UID:12097-1710349200-1710356400@townofbeechmountain.com
SUMMARY:Culinary Craft Night- Pretzel
DESCRIPTION:Roll\, Twist\, & bake your own pretzel! On March 13th \, starting at 5PM. Come hungry! \nRegistration is required. Cost is $5 : https://beechrecreation.recdesk.com/Community/Program/Detail?programId=349 \n828-387-3003
URL:https://townofbeechmountain.com/event/culinary-craft-night-pretzel/
LOCATION:Fred and Margie Pfohl Buckeye Recreation Center\, 1330 Pine Ridge Rd\, Beech Mountain\, NC\, 28604\, United States
ATTACH;FMTTYPE=image/png:https://townofbeechmountain.com/wp-content/uploads/Pretzel.png
END:VEVENT
BEGIN:VEVENT
DTSTART;TZID=UTC:20240130T170000
DTEND;TZID=UTC:20240130T190000
DTSTAMP:20260424T172934
CREATED:20240109T173327Z
LAST-MODIFIED:20240109T173327Z
UID:11994-1706634000-1706641200@townofbeechmountain.com
SUMMARY:Culinary Craft Night
DESCRIPTION:Quick Blurb – On Tuesday\, January 30th from 5-7pm\, we will be making home-made tortellini. The product\, dinner! Cost is $5 and registration is required. \nhttps://beechrecreation.recdesk.com/Community/Program/Detail?programId=338 \n 
URL:https://townofbeechmountain.com/event/culinary-craft-night/
LOCATION:Fred and Margie Pfohl Buckeye Recreation Center\, 1330 Pine Ridge Rd\, Beech Mountain\, NC\, 28604\, United States
ATTACH;FMTTYPE=application/pdf:https://townofbeechmountain.com/wp-content/uploads/Tortalina.pdf
END:VEVENT
BEGIN:VEVENT
DTSTART;TZID=UTC:20231125T100000
DTEND;TZID=UTC:20231125T160000
DTSTAMP:20260424T172934
CREATED:20231003T172333Z
LAST-MODIFIED:20231003T172334Z
UID:11373-1700906400-1700928000@townofbeechmountain.com
SUMMARY:Holiday Market
DESCRIPTION:The 17th Annual Beech Mountain Holiday Market will take place from 10AM – 4PM on Saturday\, November 25\, 2023 at the Buckeye Recreation Center.  Start your holiday shopping early as you browse through a wide selection of one-of-a-kind gifts and hand-crafted items including: Christmas ornaments\, art work; pottery; woodwork; soaps; lotions; jewelry; yarn art; Scentsy and much more. Vendor spaces are still available; 10’x10’ spaces are only $60 each!  Application and fee must be received by November 11th\, 2023. \nThere is more to do than just shop at the market; Mrs. Claus will be attending\, with games and activities set up for kids.  Come join us for a traditional kickoff to the holiday season.  Admission is free. \nPlease contact Kate Prisco kprisco@townofbeechmountain.com for more information\, or beechrecreation.recdesk.com to register as a vendor. \n2023 HM Flyer
URL:https://townofbeechmountain.com/event/holiday-market/
LOCATION:Fred and Margie Pfohl Buckeye Recreation Center\, 1330 Pine Ridge Rd\, Beech Mountain\, NC\, 28604\, United States
ATTACH;FMTTYPE=application/pdf:https://townofbeechmountain.com/wp-content/uploads/2023-HM-Flyer-1.pdf
END:VEVENT
BEGIN:VEVENT
DTSTART;TZID=UTC:20231027T170000
DTEND;TZID=UTC:20231027T203000
DTSTAMP:20260424T172934
CREATED:20231003T172158Z
LAST-MODIFIED:20231003T172158Z
UID:11368-1698426000-1698438600@townofbeechmountain.com
SUMMARY:Halloween Trail-or-Treat
DESCRIPTION:Celebrate Halloween with the Beech Mountain Haunted Trail. This 1/3-mile mummy inspired trail will have you spooked! This is a family friendly trail. Frights not your thing? We also have games and activities that anyone can have fun and enjoy! Take on the trail or treat and visit locals on the mountain and trick or treat with your family. We are seeking candy booth vendors & volunteers! If you would like to fright\, play games\, or celebrate Halloween with a candy booth\, please reach out to us at 828-387-3003. Can’t make it? We are also accepting candy donations at Buckeye Rec. Center. \nHalloween 2023
URL:https://townofbeechmountain.com/event/halloween-trail-or-treat/
LOCATION:Fred and Margie Pfohl Buckeye Recreation Center\, 1330 Pine Ridge Rd\, Beech Mountain\, NC\, 28604\, United States
ATTACH;FMTTYPE=application/pdf:https://townofbeechmountain.com/wp-content/uploads/Halloween-2023-1.pdf
END:VEVENT
BEGIN:VEVENT
DTSTART;TZID=UTC:20231025T170000
DTEND;TZID=UTC:20231025T200000
DTSTAMP:20260424T172934
CREATED:20231003T171936Z
LAST-MODIFIED:20231003T171937Z
UID:11363-1698253200-1698264000@townofbeechmountain.com
SUMMARY:Bunco
DESCRIPTION:Grab your friends and family and come join us at the Buckeye Recreation Center (1330 Pine Ridge Road) for game night\, featuring Bunco. If you wish\, bring a dish to share and BYOB. Please RSVP for the event online or calling 828-387-3003. \nBUNCO Oct.
URL:https://townofbeechmountain.com/event/bunco-2/
LOCATION:Fred and Margie Pfohl Buckeye Recreation Center\, 1330 Pine Ridge Rd\, Beech Mountain\, NC\, 28604\, United States
ATTACH;FMTTYPE=application/pdf:https://townofbeechmountain.com/wp-content/uploads/BUNCO-Oct-1.pdf
END:VEVENT
BEGIN:VEVENT
DTSTART;TZID=UTC:20231018T173000
DTEND;TZID=UTC:20231018T193000
DTSTAMP:20260424T172934
CREATED:20231003T165359Z
LAST-MODIFIED:20231003T165359Z
UID:11349-1697650200-1697657400@townofbeechmountain.com
SUMMARY:Meet the Candidates
DESCRIPTION:Beech Mountain Chamber of Commerce invites you to attend: \nTown Council Meet the Candidates \nOctober 18th\, 2023 at the Buckeye Recreation Center 5:30pm-7:30pm \n1330 Pine Ridge Rd. \nSubmit questions to info@beechchamber.com \n  \n 
URL:https://townofbeechmountain.com/event/meet-the-candidates/
LOCATION:Fred and Margie Pfohl Buckeye Recreation Center\, 1330 Pine Ridge Rd\, Beech Mountain\, NC\, 28604\, United States
ATTACH;FMTTYPE=application/pdf:https://townofbeechmountain.com/wp-content/uploads/meet-the-candidates-23-1.pdf
END:VEVENT
BEGIN:VEVENT
DTSTART;TZID=UTC:20231014T110000
DTEND;TZID=UTC:20231014T140000
DTSTAMP:20260424T172934
CREATED:20230908T120714Z
LAST-MODIFIED:20231003T201402Z
UID:11293-1697281200-1697292000@townofbeechmountain.com
SUMMARY:Fall Flannel Fest
DESCRIPTION:Calling all loggers! Bring in the festivities with logger themed fun. We’ll bring out the apple press\, have a hay ride\, and enjoy the logger obstacle run for the little ones. Bring your flannels!
URL:https://townofbeechmountain.com/event/fall-flannel-fest/
LOCATION:Fred and Margie Pfohl Buckeye Recreation Center\, 1330 Pine Ridge Rd\, Beech Mountain\, NC\, 28604\, United States
ATTACH;FMTTYPE=image/png:https://townofbeechmountain.com/wp-content/uploads/Artboard-1.png
END:VEVENT
BEGIN:VEVENT
DTSTART;TZID=UTC:20231013T173000
DTEND;TZID=UTC:20231013T200000
DTSTAMP:20260424T172934
CREATED:20231003T171632Z
LAST-MODIFIED:20231003T171633Z
UID:11358-1697218200-1697227200@townofbeechmountain.com
SUMMARY:Sip and Paint
DESCRIPTION:We provide the art supplies; you provide the drinks! Sip & Paint with local artist Rebecca Williams as she teaches you how to paint! \nSip & Paint 2023
URL:https://townofbeechmountain.com/event/sip-and-paint/
LOCATION:Fred and Margie Pfohl Buckeye Recreation Center\, 1330 Pine Ridge Rd\, Beech Mountain\, NC\, 28604\, United States
ATTACH;FMTTYPE=application/pdf:https://townofbeechmountain.com/wp-content/uploads/Sip-Paint-2023-1.pdf
END:VEVENT
BEGIN:VEVENT
DTSTART;TZID=UTC:20231006T170000
DTEND;TZID=UTC:20231006T190000
DTSTAMP:20260424T172934
CREATED:20231003T171235Z
LAST-MODIFIED:20231003T171237Z
UID:11353-1696611600-1696618800@townofbeechmountain.com
SUMMARY:October Craft Night
DESCRIPTION:Get the best of both seasons with wood cookie décor! Friday\, October 6th from 5-7PM. Registration Required. Cost is $5 \nOctober Craft Night
URL:https://townofbeechmountain.com/event/october-craft-night/
LOCATION:Fred and Margie Pfohl Buckeye Recreation Center\, 1330 Pine Ridge Rd\, Beech Mountain\, NC\, 28604\, United States
ATTACH;FMTTYPE=application/pdf:https://townofbeechmountain.com/wp-content/uploads/October-Craft-Night-1.pdf
END:VEVENT
BEGIN:VEVENT
DTSTART;TZID=UTC:20230929T120000
DTEND;TZID=UTC:20230929T140000
DTSTAMP:20260424T172934
CREATED:20230914T135708Z
LAST-MODIFIED:20230914T135710Z
UID:11302-1695988800-1695996000@townofbeechmountain.com
SUMMARY:Flu Shot Clinic
DESCRIPTION:Stay ahead of flu season\, receive an Influenza Vaccine! The best way to prevent the spread of flu is to get the flu vaccine. The CDC recommends yearly vaccination\, please check the CDC website link below for more information. \n\nWhere: Buckeye Recreation Center 1330 Pine Ridge Rd\nWhen: Friday\, September 29\, 2023\nTime: 12:00 p.m. – 2:00 p.m.\n\nWalk-in vaccine clinic- open to public and offered by the Avery County Health Department. If you have an insurance card\, please bring it with you\, any questions call 828-387-4236 \nWho Needs a Flu Vaccine | CDCWho Needs a Flu Vaccine | CDC
URL:https://townofbeechmountain.com/event/flu-shot-clinic/
LOCATION:Fred and Margie Pfohl Buckeye Recreation Center\, 1330 Pine Ridge Rd\, Beech Mountain\, NC\, 28604\, United States
ATTACH;FMTTYPE=image/jpeg:https://townofbeechmountain.com/wp-content/uploads/Flu-Season1.jpg
END:VEVENT
BEGIN:VEVENT
DTSTART;TZID=UTC:20230701T100000
DTEND;TZID=UTC:20230701T140000
DTSTAMP:20260424T172934
CREATED:20230609T193416Z
LAST-MODIFIED:20230609T193416Z
UID:11000-1688205600-1688220000@townofbeechmountain.com
SUMMARY:1st of July
DESCRIPTION:1st of July Tail Gate Family Day @ Buckeye Recreation Center starting at 10:00 a.m. with a Sparkler Fun Run 5K. Call 828-387-3003 for more details
URL:https://townofbeechmountain.com/event/1st-of-july/
LOCATION:Fred and Margie Pfohl Buckeye Recreation Center\, 1330 Pine Ridge Rd\, Beech Mountain\, NC\, 28604\, United States
ATTACH;FMTTYPE=image/png:https://townofbeechmountain.com/wp-content/uploads/./July-1st-2023-01.png
END:VEVENT
BEGIN:VEVENT
DTSTART;TZID=UTC:20230408T110000
DTEND;TZID=UTC:20230408T130000
DTSTAMP:20260424T172934
CREATED:20230310T200248Z
LAST-MODIFIED:20230310T200555Z
UID:10854-1680951600-1680958800@townofbeechmountain.com
SUMMARY:Hoppy Easter Party
DESCRIPTION:Hoppy Easter Party- Join us for an EGGstraordinary party and egg hunt at Buckeye Recreation Center from 11:00 – 1:00
URL:https://townofbeechmountain.com/event/hoppy-easter-party/
LOCATION:Fred and Margie Pfohl Buckeye Recreation Center\, 1330 Pine Ridge Rd\, Beech Mountain\, NC\, 28604\, United States
ATTACH;FMTTYPE=image/jpeg:https://townofbeechmountain.com/wp-content/uploads/TOBM_easter.jpg
END:VEVENT
BEGIN:VEVENT
DTSTART;TZID=UTC:20230317T180000
DTEND;TZID=UTC:20230317T190000
DTSTAMP:20260424T172934
CREATED:20230310T200003Z
LAST-MODIFIED:20230310T201108Z
UID:10852-1679076000-1679079600@townofbeechmountain.com
SUMMARY:St. Patrick Mixology Class
DESCRIPTION:Mix your favorite Irish beverage. Enjoy a night with games and snacks at Buckeye Recreation Center\, 1330 Pine Ridge Rd. Beech Mountain
URL:https://townofbeechmountain.com/event/st-patrick-mixology-class/
LOCATION:Fred and Margie Pfohl Buckeye Recreation Center\, 1330 Pine Ridge Rd\, Beech Mountain\, NC\, 28604\, United States
ATTACH;FMTTYPE=image/webp:https://townofbeechmountain.com/wp-content/uploads/leprechaun-cartoon-vector-illustration-scaled.webp
END:VEVENT
BEGIN:VEVENT
DTSTART;TZID=UTC:20230113T173000
DTEND;TZID=UTC:20230113T193000
DTSTAMP:20260424T172934
CREATED:20230103T165944Z
LAST-MODIFIED:20230103T170256Z
UID:10684-1673631000-1673638200@townofbeechmountain.com
SUMMARY:NERF Extravaganza
DESCRIPTION:Parks and Recreation presents: NERF Extravaganza\, an evening of Nerf wars\, nerf guns and safety glasses provided\, $5. \nLocation: Buckeye Recreation Center 1330 Pine Ridge Rd.\nWhen: 1/13/2023 Friday night\nTime: 5:30-7:30 p.m.\nCost: $5.00 \nNerf war’s ’23
URL:https://townofbeechmountain.com/event/nerf-extravaganza/
LOCATION:Fred and Margie Pfohl Buckeye Recreation Center\, 1330 Pine Ridge Rd\, Beech Mountain\, NC\, 28604\, United States
END:VEVENT
BEGIN:VEVENT
DTSTART;TZID=UTC:20221006T160000
DTEND;TZID=UTC:20221006T190000
DTSTAMP:20260424T172934
CREATED:20220909T211837Z
LAST-MODIFIED:20221006T162203Z
UID:10485-1665072000-1665082800@townofbeechmountain.com
SUMMARY:Town Hall Meeting
DESCRIPTION:Beech Mountain Town Council invites you to attend the Town Hall meeting on Oct. 6\, 2022 at 4:00 p.m. at Buckeye Rec. Center. Topic: Funding for Surface Water and Utility Infrastructure. Portal/Meeting/Information \n  \n \nTH Meeting Postcard
URL:https://townofbeechmountain.com/event/town-hall-meeting/
LOCATION:Fred and Margie Pfohl Buckeye Recreation Center\, 1330 Pine Ridge Rd\, Beech Mountain\, NC\, 28604\, United States
ATTACH;FMTTYPE=image/png:https://townofbeechmountain.com/wp-content/uploads/Town-Hall-Meeting-Postcard-10-6-22.png
END:VEVENT
END:VCALENDAR