BEGIN:VCALENDAR
VERSION:2.0
PRODID:-//Town of Beech Mountain - ECPv6.15.12.2//NONSGML v1.0//EN
CALSCALE:GREGORIAN
METHOD:PUBLISH
X-ORIGINAL-URL:https://townofbeechmountain.com
X-WR-CALDESC:Events for Town of Beech Mountain
REFRESH-INTERVAL;VALUE=DURATION:PT1H
X-Robots-Tag:noindex
X-PUBLISHED-TTL:PT1H
BEGIN:VTIMEZONE
TZID:UTC
BEGIN:STANDARD
TZOFFSETFROM:+0000
TZOFFSETTO:+0000
TZNAME:UTC
DTSTART:20210101T000000
END:STANDARD
END:VTIMEZONE
BEGIN:VEVENT
DTSTART;TZID=UTC:20230704T120000
DTEND;TZID=UTC:20230704T150000
DTSTAMP:20260425T002401
CREATED:20230609T130009Z
LAST-MODIFIED:20230609T130009Z
UID:10995-1688472000-1688482800@townofbeechmountain.com
SUMMARY:4th July Water Party
DESCRIPTION:July 4th Parks and Recreation Presents: Water Party\, giant slip-N-slide + super soakers= FUN at Bark Park Way Sled Hill from 12-3 p.m.
URL:https://townofbeechmountain.com/event/4th-july-water-party/
LOCATION:108 Bark Park Way Beech Mountain NC 28604
ATTACH;FMTTYPE=image/png:https://townofbeechmountain.com/wp-content/uploads/./4th-of-July-slip-n-slide-01.png
END:VEVENT
BEGIN:VEVENT
DTSTART;TZID=UTC:20230701T100000
DTEND;TZID=UTC:20230701T140000
DTSTAMP:20260425T002401
CREATED:20230609T193416Z
LAST-MODIFIED:20230609T193416Z
UID:11000-1688205600-1688220000@townofbeechmountain.com
SUMMARY:1st of July
DESCRIPTION:1st of July Tail Gate Family Day @ Buckeye Recreation Center starting at 10:00 a.m. with a Sparkler Fun Run 5K. Call 828-387-3003 for more details
URL:https://townofbeechmountain.com/event/1st-of-july/
LOCATION:Fred and Margie Pfohl Buckeye Recreation Center\, 1330 Pine Ridge Rd\, Beech Mountain\, NC\, 28604\, United States
ATTACH;FMTTYPE=image/png:https://townofbeechmountain.com/wp-content/uploads/./July-1st-2023-01.png
END:VEVENT
BEGIN:VEVENT
DTSTART;TZID=UTC:20230513T080000
DTEND;TZID=UTC:20230513T140000
DTSTAMP:20260425T002401
CREATED:20230502T211306Z
LAST-MODIFIED:20230502T211306Z
UID:10921-1683964800-1683986400@townofbeechmountain.com
SUMMARY:Community Cleanup
DESCRIPTION:Help our community and lets clean-up Beech Mountain! On Saturday\, May 13th from 8 a.m. – 2 p.m.
URL:https://townofbeechmountain.com/event/community-cleanup/
ATTACH;FMTTYPE=image/jpeg:https://townofbeechmountain.com/wp-content/uploads/TOBM_20230502_171018_0001.jpg
END:VEVENT
BEGIN:VEVENT
DTSTART;TZID=UTC:20230408T110000
DTEND;TZID=UTC:20230408T130000
DTSTAMP:20260425T002401
CREATED:20230310T200248Z
LAST-MODIFIED:20230310T200555Z
UID:10854-1680951600-1680958800@townofbeechmountain.com
SUMMARY:Hoppy Easter Party
DESCRIPTION:Hoppy Easter Party- Join us for an EGGstraordinary party and egg hunt at Buckeye Recreation Center from 11:00 – 1:00
URL:https://townofbeechmountain.com/event/hoppy-easter-party/
LOCATION:Fred and Margie Pfohl Buckeye Recreation Center\, 1330 Pine Ridge Rd\, Beech Mountain\, NC\, 28604\, United States
ATTACH;FMTTYPE=image/jpeg:https://townofbeechmountain.com/wp-content/uploads/TOBM_easter.jpg
END:VEVENT
BEGIN:VEVENT
DTSTART;TZID=UTC:20230317T180000
DTEND;TZID=UTC:20230317T190000
DTSTAMP:20260425T002401
CREATED:20230310T200003Z
LAST-MODIFIED:20230310T201108Z
UID:10852-1679076000-1679079600@townofbeechmountain.com
SUMMARY:St. Patrick Mixology Class
DESCRIPTION:Mix your favorite Irish beverage. Enjoy a night with games and snacks at Buckeye Recreation Center\, 1330 Pine Ridge Rd. Beech Mountain
URL:https://townofbeechmountain.com/event/st-patrick-mixology-class/
LOCATION:Fred and Margie Pfohl Buckeye Recreation Center\, 1330 Pine Ridge Rd\, Beech Mountain\, NC\, 28604\, United States
ATTACH;FMTTYPE=image/webp:https://townofbeechmountain.com/wp-content/uploads/leprechaun-cartoon-vector-illustration-scaled.webp
END:VEVENT
BEGIN:VEVENT
DTSTART;TZID=UTC:20230217T170000
DTEND;TZID=UTC:20230217T180000
DTSTAMP:20260425T002401
CREATED:20230103T201519Z
LAST-MODIFIED:20230216T154739Z
UID:10688-1676653200-1676656800@townofbeechmountain.com
SUMMARY:CANCELLED: Beech Boggin
DESCRIPTION:CANCELLED DUE TO WEATHER! Beech Boggin: Cardboard Box Derby on the Public Sledding Hill Fri. 2/17/2023 @ 5:00 p.m. \nTOBM_20230103_160615
URL:https://townofbeechmountain.com/event/beech-boggin/
LOCATION:108 Bark Park Way Beech Mountain NC 28604
ATTACH;FMTTYPE=image/png:https://townofbeechmountain.com/wp-content/uploads/2023derby-flyer.png
END:VEVENT
BEGIN:VEVENT
DTSTART;TZID=UTC:20230113T173000
DTEND;TZID=UTC:20230113T193000
DTSTAMP:20260425T002401
CREATED:20230103T165944Z
LAST-MODIFIED:20230103T170256Z
UID:10684-1673631000-1673638200@townofbeechmountain.com
SUMMARY:NERF Extravaganza
DESCRIPTION:Parks and Recreation presents: NERF Extravaganza\, an evening of Nerf wars\, nerf guns and safety glasses provided\, $5. \nLocation: Buckeye Recreation Center 1330 Pine Ridge Rd.\nWhen: 1/13/2023 Friday night\nTime: 5:30-7:30 p.m.\nCost: $5.00 \nNerf war’s ’23
URL:https://townofbeechmountain.com/event/nerf-extravaganza/
LOCATION:Fred and Margie Pfohl Buckeye Recreation Center\, 1330 Pine Ridge Rd\, Beech Mountain\, NC\, 28604\, United States
END:VEVENT
BEGIN:VEVENT
DTSTART;TZID=UTC:20220902T170000
DTEND;TZID=UTC:20220903T120000
DTSTAMP:20260425T002401
CREATED:20220819T130351Z
LAST-MODIFIED:20220819T130433Z
UID:10444-1662138000-1662206400@townofbeechmountain.com
SUMMARY:Pack the Park
DESCRIPTION:Pack the Park Flyer \nShane Park camping\, canoeing\, kayaking\, games\, smores\, movie night\, etc.! Call 828.387.3003 for more info
URL:https://townofbeechmountain.com/event/pack-the-park/
ATTACH;FMTTYPE=image/png:https://townofbeechmountain.com/wp-content/uploads/Pack-the-Park-2022-01-01.png
END:VEVENT
BEGIN:VEVENT
DTSTART;TZID=UTC:20220430T120000
DTEND;TZID=UTC:20220430T170000
DTSTAMP:20260425T002401
CREATED:20220311T183313Z
LAST-MODIFIED:20220311T183457Z
UID:10095-1651320000-1651338000@townofbeechmountain.com
SUMMARY:Beech's Bloomin' Crafts
DESCRIPTION:2022 summer Flyer \nBeech’s Bloomin’ Craft Festival at Fred & Margie Pfohl Buckeye Recreation Center: Saturday\, April 30\, 2022 12 – 5. For more information call: 828-387-3003 \n \n 
URL:https://townofbeechmountain.com/event/beechs-bloomin-crafts/
LOCATION:Fred and Margie Pfohl Buckeye Recreation Center\, 1330 Pine Ridge Rd\, Beech Mountain\, NC\, 28604\, United States
ATTACH;FMTTYPE=image/png:https://townofbeechmountain.com/wp-content/uploads/2022-craft-festival-Flyer.png
END:VEVENT
BEGIN:VEVENT
DTSTART;TZID=UTC:20220416T103000
DTEND;TZID=UTC:20220416T120000
DTSTAMP:20260425T002401
CREATED:20220330T182205Z
LAST-MODIFIED:20220330T182205Z
UID:10173-1650105000-1650110400@townofbeechmountain.com
SUMMARY:Hoppy Easter Party 4/16/2022
DESCRIPTION:Easter-flyer-2022 \n \nJoin us at Buckeye Recreation & Buckeye Lake for an EGGStraordinary Party & egg hunt! Call 828-387-3003 for more information.
URL:https://townofbeechmountain.com/event/hoppy-easter-party-4-16-2022/
ATTACH;FMTTYPE=image/png:https://townofbeechmountain.com/wp-content/uploads/Easter-flyer-2022-01.png
END:VEVENT
END:VCALENDAR