BEGIN:VCALENDAR
VERSION:2.0
PRODID:-//Town of Beech Mountain - ECPv6.15.12.2//NONSGML v1.0//EN
CALSCALE:GREGORIAN
METHOD:PUBLISH
X-ORIGINAL-URL:https://townofbeechmountain.com
X-WR-CALDESC:Events for Town of Beech Mountain
REFRESH-INTERVAL;VALUE=DURATION:PT1H
X-Robots-Tag:noindex
X-PUBLISHED-TTL:PT1H
BEGIN:VTIMEZONE
TZID:UTC
BEGIN:STANDARD
TZOFFSETFROM:+0000
TZOFFSETTO:+0000
TZNAME:UTC
DTSTART:20250101T000000
END:STANDARD
END:VTIMEZONE
BEGIN:VEVENT
DTSTART;TZID=UTC:20260512T160000
DTEND;TZID=UTC:20260512T190000
DTSTAMP:20260424T113904
CREATED:20241211T164521Z
LAST-MODIFIED:20251201T193548Z
UID:15372-1778601600-1778612400@townofbeechmountain.com
SUMMARY:Regular Town Council Meeting
DESCRIPTION:Town Council meets at a regularly scheduled meeting once a month\, held on the second Tuesday of every month at 4:00 p.m. (Please note- a closed session may follow as posted on the agenda. Closed Session pursuant to § 143-318.11. Closed sessions) Citizens’ comments held during the ‘public comments’ portion of the meeting. All interested parties are invited to attend. \nAs a reminder\, Town Council meetings\, agenda information\, and supporting documents are available for remote viewing via: \nhttps://townofbeechmountain.civicweb.net/Portal/
URL:https://townofbeechmountain.com/event/regular-town-council-meeting/2026-05-12/
LOCATION:Council Chambers\, 403 beech Mountain Parkway\, Beech Mountain\, NC\, 28604\, United States
ATTACH;FMTTYPE=image/png:https://townofbeechmountain.com/wp-content/uploads/Final-Seal_1.5-01-2.png
END:VEVENT
BEGIN:VEVENT
DTSTART;TZID=UTC:20260609T160000
DTEND;TZID=UTC:20260609T190000
DTSTAMP:20260424T113904
CREATED:20241211T164521Z
LAST-MODIFIED:20251201T193548Z
UID:15373-1781020800-1781031600@townofbeechmountain.com
SUMMARY:Regular Town Council Meeting
DESCRIPTION:Town Council meets at a regularly scheduled meeting once a month\, held on the second Tuesday of every month at 4:00 p.m. (Please note- a closed session may follow as posted on the agenda. Closed Session pursuant to § 143-318.11. Closed sessions) Citizens’ comments held during the ‘public comments’ portion of the meeting. All interested parties are invited to attend. \nAs a reminder\, Town Council meetings\, agenda information\, and supporting documents are available for remote viewing via: \nhttps://townofbeechmountain.civicweb.net/Portal/
URL:https://townofbeechmountain.com/event/regular-town-council-meeting/2026-06-09/
LOCATION:Council Chambers\, 403 beech Mountain Parkway\, Beech Mountain\, NC\, 28604\, United States
ATTACH;FMTTYPE=image/png:https://townofbeechmountain.com/wp-content/uploads/Final-Seal_1.5-01-2.png
END:VEVENT
BEGIN:VEVENT
DTSTART;TZID=UTC:20260714T160000
DTEND;TZID=UTC:20260714T190000
DTSTAMP:20260424T113904
CREATED:20241211T164521Z
LAST-MODIFIED:20251201T193549Z
UID:15374-1784044800-1784055600@townofbeechmountain.com
SUMMARY:Regular Town Council Meeting
DESCRIPTION:Town Council meets at a regularly scheduled meeting once a month\, held on the second Tuesday of every month at 4:00 p.m. (Please note- a closed session may follow as posted on the agenda. Closed Session pursuant to § 143-318.11. Closed sessions) Citizens’ comments held during the ‘public comments’ portion of the meeting. All interested parties are invited to attend. \nAs a reminder\, Town Council meetings\, agenda information\, and supporting documents are available for remote viewing via: \nhttps://townofbeechmountain.civicweb.net/Portal/
URL:https://townofbeechmountain.com/event/regular-town-council-meeting/2026-07-14/
LOCATION:Council Chambers\, 403 beech Mountain Parkway\, Beech Mountain\, NC\, 28604\, United States
ATTACH;FMTTYPE=image/png:https://townofbeechmountain.com/wp-content/uploads/Final-Seal_1.5-01-2.png
END:VEVENT
BEGIN:VEVENT
DTSTART;TZID=UTC:20260811T160000
DTEND;TZID=UTC:20260811T190000
DTSTAMP:20260424T113904
CREATED:20241211T164521Z
LAST-MODIFIED:20251201T193549Z
UID:15375-1786464000-1786474800@townofbeechmountain.com
SUMMARY:Regular Town Council Meeting
DESCRIPTION:Town Council meets at a regularly scheduled meeting once a month\, held on the second Tuesday of every month at 4:00 p.m. (Please note- a closed session may follow as posted on the agenda. Closed Session pursuant to § 143-318.11. Closed sessions) Citizens’ comments held during the ‘public comments’ portion of the meeting. All interested parties are invited to attend. \nAs a reminder\, Town Council meetings\, agenda information\, and supporting documents are available for remote viewing via: \nhttps://townofbeechmountain.civicweb.net/Portal/
URL:https://townofbeechmountain.com/event/regular-town-council-meeting/2026-08-11/
LOCATION:Council Chambers\, 403 beech Mountain Parkway\, Beech Mountain\, NC\, 28604\, United States
ATTACH;FMTTYPE=image/png:https://townofbeechmountain.com/wp-content/uploads/Final-Seal_1.5-01-2.png
END:VEVENT
BEGIN:VEVENT
DTSTART;TZID=UTC:20260908T160000
DTEND;TZID=UTC:20260908T190000
DTSTAMP:20260424T113904
CREATED:20241211T164521Z
LAST-MODIFIED:20251201T193550Z
UID:15376-1788883200-1788894000@townofbeechmountain.com
SUMMARY:Regular Town Council Meeting
DESCRIPTION:Town Council meets at a regularly scheduled meeting once a month\, held on the second Tuesday of every month at 4:00 p.m. (Please note- a closed session may follow as posted on the agenda. Closed Session pursuant to § 143-318.11. Closed sessions) Citizens’ comments held during the ‘public comments’ portion of the meeting. All interested parties are invited to attend. \nAs a reminder\, Town Council meetings\, agenda information\, and supporting documents are available for remote viewing via: \nhttps://townofbeechmountain.civicweb.net/Portal/
URL:https://townofbeechmountain.com/event/regular-town-council-meeting/2026-09-08/
LOCATION:Council Chambers\, 403 beech Mountain Parkway\, Beech Mountain\, NC\, 28604\, United States
ATTACH;FMTTYPE=image/png:https://townofbeechmountain.com/wp-content/uploads/Final-Seal_1.5-01-2.png
END:VEVENT
BEGIN:VEVENT
DTSTART;TZID=UTC:20261013T160000
DTEND;TZID=UTC:20261013T190000
DTSTAMP:20260424T113904
CREATED:20241211T164521Z
LAST-MODIFIED:20251201T193550Z
UID:15377-1791907200-1791918000@townofbeechmountain.com
SUMMARY:Regular Town Council Meeting
DESCRIPTION:Town Council meets at a regularly scheduled meeting once a month\, held on the second Tuesday of every month at 4:00 p.m. (Please note- a closed session may follow as posted on the agenda. Closed Session pursuant to § 143-318.11. Closed sessions) Citizens’ comments held during the ‘public comments’ portion of the meeting. All interested parties are invited to attend. \nAs a reminder\, Town Council meetings\, agenda information\, and supporting documents are available for remote viewing via: \nhttps://townofbeechmountain.civicweb.net/Portal/
URL:https://townofbeechmountain.com/event/regular-town-council-meeting/2026-10-13/
LOCATION:Council Chambers\, 403 beech Mountain Parkway\, Beech Mountain\, NC\, 28604\, United States
ATTACH;FMTTYPE=image/png:https://townofbeechmountain.com/wp-content/uploads/Final-Seal_1.5-01-2.png
END:VEVENT
BEGIN:VEVENT
DTSTART;TZID=UTC:20261110T160000
DTEND;TZID=UTC:20261110T190000
DTSTAMP:20260424T113904
CREATED:20241211T164521Z
LAST-MODIFIED:20241211T164521Z
UID:15378-1794326400-1794337200@townofbeechmountain.com
SUMMARY:Regular Town Council Meeting
DESCRIPTION:Town Council meets at a regularly scheduled meeting once a month\, held on the second Tuesday of every month at 4:00 p.m. (Please note- a closed session may follow as posted on the agenda. Closed Session pursuant to § 143-318.11. Closed sessions) Citizens’ comments held during the ‘public comments’ portion of the meeting. All interested parties are invited to attend. \nAs a reminder\, Town Council meetings\, agenda information\, and supporting documents are available for remote viewing via: \nhttps://townofbeechmountain.civicweb.net/Portal/
URL:https://townofbeechmountain.com/event/regular-town-council-meeting/2026-11-10/
LOCATION:Council Chambers\, 403 beech Mountain Parkway\, Beech Mountain\, NC\, 28604\, United States
ATTACH;FMTTYPE=image/png:https://townofbeechmountain.com/wp-content/uploads/Final-Seal_1.5-01-2.png
END:VEVENT
BEGIN:VEVENT
DTSTART;TZID=UTC:20261208T160000
DTEND;TZID=UTC:20261208T190000
DTSTAMP:20260424T113904
CREATED:20241211T164521Z
LAST-MODIFIED:20241211T164521Z
UID:15379-1796745600-1796756400@townofbeechmountain.com
SUMMARY:Regular Town Council Meeting
DESCRIPTION:Town Council meets at a regularly scheduled meeting once a month\, held on the second Tuesday of every month at 4:00 p.m. (Please note- a closed session may follow as posted on the agenda. Closed Session pursuant to § 143-318.11. Closed sessions) Citizens’ comments held during the ‘public comments’ portion of the meeting. All interested parties are invited to attend. \nAs a reminder\, Town Council meetings\, agenda information\, and supporting documents are available for remote viewing via: \nhttps://townofbeechmountain.civicweb.net/Portal/
URL:https://townofbeechmountain.com/event/regular-town-council-meeting/2026-12-08/
LOCATION:Council Chambers\, 403 beech Mountain Parkway\, Beech Mountain\, NC\, 28604\, United States
ATTACH;FMTTYPE=image/png:https://townofbeechmountain.com/wp-content/uploads/Final-Seal_1.5-01-2.png
END:VEVENT
END:VCALENDAR